BEGIN:VCALENDAR
VERSION:2.0
PRODID:-//Bonington Gallery - ECPv6.15.20//NONSGML v1.0//EN
CALSCALE:GREGORIAN
METHOD:PUBLISH
X-WR-CALNAME:Bonington Gallery
X-ORIGINAL-URL:https://boningtongallery.co.uk
X-WR-CALDESC:Events for Bonington Gallery
REFRESH-INTERVAL;VALUE=DURATION:PT1H
X-Robots-Tag:noindex
X-PUBLISHED-TTL:PT1H
BEGIN:VTIMEZONE
TZID:UTC
BEGIN:STANDARD
TZOFFSETFROM:+0000
TZOFFSETTO:+0000
TZNAME:UTC
DTSTART:20190101T000000
END:STANDARD
END:VTIMEZONE
BEGIN:VEVENT
DTSTART;TZID=UTC:20200403T100000
DTEND;TZID=UTC:20200516T150000
DTSTAMP:20260425T195713
CREATED:20200403T150900Z
LAST-MODIFIED:20230302T094949Z
UID:194-1585908000-1589641200@boningtongallery.co.uk
SUMMARY:Bonington Vitrines #16: The Captive Conscious (POSTPONED)
DESCRIPTION:In response to the COVID-19 crisis\, we are currently adapting this exhibition to a new format and will release more information soon. Please check back soon for updates. \n\n\n\nThe exhibition will continue to be an open call\, with new submission requirements to be confirmed. \n\n\n\nBonington Gallery is pleased to be presenting The Captive Conscious\, a collection of visual responses to an open call led by our Student Curatorial Group. Creative practitioners from within Nottingham Trent University and beyond are invited to respond in any medium to a piece of writing composed of redacted appropriated texts. The text has been cut\, merged\, edited and reassembled to form a new piece of writing that can be opened up to interpretation – in response to an imaginary narrative. The Captive Conscious will present an observation of the minds of many\, encouraging a truly organic response to language.
URL:https://boningtongallery.co.uk/event/the-captive-conscious/
CATEGORIES:Exhibition
ATTACH;FMTTYPE=image/jpeg:https://boningtongallery.co.uk/wp-content/uploads/sites/2/2021/08/text.jpg
END:VEVENT
END:VCALENDAR