BEGIN:VCALENDAR
VERSION:2.0
PRODID:-//Bonington Gallery - ECPv6.15.20//NONSGML v1.0//EN
CALSCALE:GREGORIAN
METHOD:PUBLISH
X-WR-CALNAME:Bonington Gallery
X-ORIGINAL-URL:https://boningtongallery.co.uk
X-WR-CALDESC:Events for Bonington Gallery
REFRESH-INTERVAL;VALUE=DURATION:PT1H
X-Robots-Tag:noindex
X-PUBLISHED-TTL:PT1H
BEGIN:VTIMEZONE
TZID:UTC
BEGIN:STANDARD
TZOFFSETFROM:+0000
TZOFFSETTO:+0000
TZNAME:UTC
DTSTART:20220101T000000
END:STANDARD
END:VTIMEZONE
BEGIN:VEVENT
DTSTART;TZID=UTC:20231026T110000
DTEND;TZID=UTC:20231027T160000
DTSTAMP:20260424T014818
CREATED:20230919T114212Z
LAST-MODIFIED:20230922T100728Z
UID:8665-1698318000-1698422400@boningtongallery.co.uk
SUMMARY:Shannon Thomson: Micro Residency and free Drop-in Collage Session
DESCRIPTION:We are delighted to welcome Birmingham based artist-educator Shannon Thomson for a ‘micro-residency’ during John Beck and Matthew Cornford’s exhibition\, The Art Schools of the East Midlands. Shannon will explore Nottingham School of Art & Design’s architectural\, social and cultural history through the process of personal and collective collage making. \n\n\n\nFor two days\, Shannon will be working within the gallery\, cutting and splicing source material from our archive with photography and ephemera gathered by the artist herself. \n\n\n\nVisitors to the gallery will be welcome to join in with the activity and create their own collages\, contributing to a collective dialogue about the subject of art school pasts\, presents and futures. \n\n\n\nShannon will return to the gallery on Saturday 25th November\, 10 am – 1 pm for a session with our Saturday Art Club group. Visitors to the gallery that day will be able to observe this activity taking place inside the gallery. \n\n\n\n \n\n\n\n				\n					\n					\n					About the artist \n					\n						As an artist and educator\, Shannon Thomson‘s current body of work delves into the intricate relationship between pedagogy and creative expression\, shedding light on the transformative power of arts education.  \nThomson’s work currently draws inspiration from art school archives\, most recently Birmingham School of Art.  \nThrough examining archival material\, Thomson seeks to unravel the complex narrative of educational systems and their influence on shaping artistic identity. 
URL:https://boningtongallery.co.uk/event/shannon-thomson-collage/
CATEGORIES:Exhibition
ATTACH;FMTTYPE=image/jpeg:https://boningtongallery.co.uk/wp-content/uploads/sites/2/2023/09/Collage-process-scaled.jpg
END:VEVENT
END:VCALENDAR