BEGIN:VCALENDAR
VERSION:2.0
PRODID:-//Bonington Gallery - ECPv6.15.20//NONSGML v1.0//EN
CALSCALE:GREGORIAN
METHOD:PUBLISH
X-WR-CALNAME:Bonington Gallery
X-ORIGINAL-URL:https://boningtongallery.co.uk
X-WR-CALDESC:Events for Bonington Gallery
REFRESH-INTERVAL;VALUE=DURATION:PT1H
X-Robots-Tag:noindex
X-PUBLISHED-TTL:PT1H
BEGIN:VTIMEZONE
TZID:UTC
BEGIN:STANDARD
TZOFFSETFROM:+0000
TZOFFSETTO:+0000
TZNAME:UTC
DTSTART:20190101T000000
END:STANDARD
END:VTIMEZONE
BEGIN:VEVENT
DTSTART;TZID=UTC:20200314T103000
DTEND;TZID=UTC:20200314T180000
DTSTAMP:20260420T202522
CREATED:20200314T092300Z
LAST-MODIFIED:20230302T094950Z
UID:450-1584181800-1584208800@boningtongallery.co.uk
SUMMARY:Generating Systems: Day 2
DESCRIPTION:Join us for a full day of workshops led by artist and Near Now Studio member Matt Woodham. Taking place at Broadway\, you will learn to use specially designed software and hardware systems to create live video\, interactive installations and generative art – utilising technologies such as virtual reality\, machine learning and analogue devices. \n\n\n\nIn partnership with Near Now\, Matt presents a series of six creative\, DIY workshops over two days\, led by expert artists and toolmakers. Participants will learn a cross-section of cutting-edge techniques to create generative and computational artworks. \n\n\n\nBook your place now \n\n\n\nWorkshop Schedule\n\n\n\n10.30 am – 12.30 pmFragment:Flow with Paul Fennell \n\n\n\n1.30 pm – 3.30 pmGenerative artwork in VR with Prefix Studios \n\n\n\n4.00 pm – 6.00 pmCymatics with Zach Walker \n\n\n\nBiography\n\n\n\nMatt Woodham is an artist\, designer and technologist. He creates interactive installations\, experimental websites\, moving image and graphic design. His practice and research explores system dynamics\, informed by his background studying psychology and neuroscience. He investigates the common dynamics between systems of various scales\, from quantum mechanics\, to human behaviour. He uses hardware and software to harness behaviour such as feedback loops and randomness\, to create organic generative visuals. He is particularly focussed on building entertaining\, interactive and playful experiences which have underlying theory. He feels that harnessing nature’s mechanisms has the power to delight an audience\, acting as a Trojan horse to ignite interest in the laws\, rules and biases which govern us.
URL:https://boningtongallery.co.uk/event/generating-systems-day-2/
CATEGORIES:Event
ATTACH;FMTTYPE=image/jpeg:https://boningtongallery.co.uk/wp-content/uploads/sites/2/2021/09/fragment-flow-banner-min-1_1.jpg
END:VEVENT
END:VCALENDAR