BEGIN:VCALENDAR
VERSION:2.0
PRODID:-//Bonington Gallery - ECPv6.15.20//NONSGML v1.0//EN
CALSCALE:GREGORIAN
METHOD:PUBLISH
X-WR-CALNAME:Bonington Gallery
X-ORIGINAL-URL:https://boningtongallery.co.uk
X-WR-CALDESC:Events for Bonington Gallery
REFRESH-INTERVAL;VALUE=DURATION:PT1H
X-Robots-Tag:noindex
X-PUBLISHED-TTL:PT1H
BEGIN:VTIMEZONE
TZID:UTC
BEGIN:STANDARD
TZOFFSETFROM:+0000
TZOFFSETTO:+0000
TZNAME:UTC
DTSTART:20160101T000000
END:STANDARD
END:VTIMEZONE
BEGIN:VEVENT
DTSTART;TZID=UTC:20170113T100000
DTEND;TZID=UTC:20170217T170000
DTSTAMP:20260422T085045
CREATED:20170113T084300Z
LAST-MODIFIED:20230302T095448Z
UID:414-1484301600-1487350800@boningtongallery.co.uk
SUMMARY:Bonington Vitrines #2: Marbled Reams
DESCRIPTION:Bonington Vitrines are a series of micro exhibitions which take place within the Bonington Gallery Foyer. They comprise of three display cases which present a variety of objects\, artworks and printed material. \n\n\n\nMarbled Reams was a publishing project run by Bonington Gallery curator Tom Godfrey from 2009–2012. It involved inviting individuals to submit A4 works on paper that were reproduced to a value of 500 pages (a ‘ream’). The front edge of each paper stack was marbled and then pages were available to be purchased individually. \n\n\n\nCertain artists challenged the confines of the project. Sam Gordon produced 500 different pages; Laura Aldridge made a double sided work; Mark Harasimowicz hand fed 500 pieces of newsprint into his home printer and Heike-Karin Föll made a five page work that is repeated through the ream. \n\n\n\nThe project has previously been exhibited at Limoncello\, London; Donlon Books\, London; The Modern Institute\, Glasgow and CCA\, Glasgow. It has also been presented at publishing fairs including Publish & Be Damned\, London; Spike Island Book & Zine Fair\, Bristol and Three Letter Words\, London. \n\n\n\n			\n\n				\n					\n				\n				Installation view. Courtesy of the artist. Photo: Julian Lister.\n			\n				\n				Installation view. Courtesy of the artist. Photo: Julian Lister.\n			\n				\n				Installation view. Courtesy of the artist. Photo: Julian Lister.\n			\n				\n				Installation view. Courtesy of the artist. Photo: Julian Lister.\n			\n				\n				Installation view. Courtesy of the artist. Photo: Julian Lister.\n			\n				\n\n			\n			\n				\n					\n				\n				Installation view. Courtesy of the artist. Photo: Julian Lister.\n			\n				\n				Installation view. Courtesy of the artist. Photo: Julian Lister.\n			\n				\n				Installation view. Courtesy of the artist. Photo: Julian Lister.\n			\n				\n				Installation view. Courtesy of the artist. Photo: Julian Lister.\n			\n				\n				Installation view. Courtesy of the artist. Photo: Julian Lister.\n			\n				\n\n				\n					\n				\n				\n					\n				\n			\n		\n\n\nFeatured Artists\n\n\n\nLaura Aldridge\, Jennifer Bailey\, Aline Bouvy and John Gillis\, Emma Cocker\, Kimi Conrad\, Sean Cummins\, Sean Edwards\, Ed Fella\, Heike-Karin Föll\, Dan Ford\, Babak Ghazi\, Sam Gordon\, Mark Harasimowicz\, David L. Hayles\, Ann Cathrin November Høibo\, Matt Jamieson\, Scott King\, Jon Knight\, Piotr Łakomy\, Sara MacKillop\, David Newey\, David Osbaldeston\, Anna Parkina\, James Richards\, James E Smith\, Jack Strange\, Steven Warwick and Jean-Michel Wicker
URL:https://boningtongallery.co.uk/event/bonington-vitrines-2/
CATEGORIES:Vitrines
ATTACH;FMTTYPE=image/jpeg:https://boningtongallery.co.uk/wp-content/uploads/sites/2/2021/09/AnnaParkina_web_large_inst.jpg
END:VEVENT
END:VCALENDAR