BEGIN:VCALENDAR
VERSION:2.0
PRODID:-//Bonington Gallery - ECPv6.15.20//NONSGML v1.0//EN
CALSCALE:GREGORIAN
METHOD:PUBLISH
X-WR-CALNAME:Bonington Gallery
X-ORIGINAL-URL:https://boningtongallery.co.uk
X-WR-CALDESC:Events for Bonington Gallery
REFRESH-INTERVAL;VALUE=DURATION:PT1H
X-Robots-Tag:noindex
X-PUBLISHED-TTL:PT1H
BEGIN:VTIMEZONE
TZID:UTC
BEGIN:STANDARD
TZOFFSETFROM:+0000
TZOFFSETTO:+0000
TZNAME:UTC
DTSTART:20250101T000000
END:STANDARD
END:VTIMEZONE
BEGIN:VEVENT
DTSTART;TZID=UTC:20260321T080000
DTEND;TZID=UTC:20260509T170000
DTSTAMP:20260420T033933
CREATED:20260409T125611Z
LAST-MODIFIED:20260416T121849Z
UID:12947-1774080000-1778346000@boningtongallery.co.uk
SUMMARY:Archive Display #9: Slum City - The Bonington Building Protests\, 1969
DESCRIPTION:In October 1969 the Bonington Building opened against a backdrop of student protest and demonstration – not against the new building itself – but with local planning decisions to selectively and acceleratedly clear slum housing in the vicinity of the new building\, in time for the grand unveiling by the Duchess of Kent. \n\n\n\nThis presentation acknowledges the themes of student protest in the corresponding exhibition Naeem Mohaiemen: THROUGH A MIRROR\, DARKLY\, and also in John Dean’s photography within Bonington Vitrines #30: A Semester in Nottingham\, 1976\, capturing the city 7 year’s on\, still in a state of flux and transformation.  \n\n\n\nThis display presents reproductions of newspaper cuttings that reported the event\, photos of the protest and the Duchess\, in a setting that emulates the window of an abandoned shopfront. \n\n\n\n			\n\n				\n					\n				\n				Slum City: The Bonington Building Protests\, 1969\n			\n				\n				Slum City: The Bonington Building Protests\, 1969\n			\n				\n				Slum City: The Bonington Building Protests\, 1969\n			\n				\n				Slum City: The Bonington Building Protests\, 1969\n			\n				\n				Slum City: The Bonington Building Protests\, 1969\n			\n				\n\n			\n			\n				\n					\n				\n				Slum City: The Bonington Building Protests\, 1969\n			\n				\n				Slum City: The Bonington Building Protests\, 1969\n			\n				\n				Slum City: The Bonington Building Protests\, 1969\n			\n				\n				Slum City: The Bonington Building Protests\, 1969\n			\n				\n				Slum City: The Bonington Building Protests\, 1969
URL:https://boningtongallery.co.uk/event/archive-display-9-slum-city/
CATEGORIES:Exhibition
ATTACH;FMTTYPE=image/jpeg:https://boningtongallery.co.uk/wp-content/uploads/sites/2/2026/04/Scan-scaled-e1775740706856.jpeg
END:VEVENT
END:VCALENDAR