BEGIN:VCALENDAR
VERSION:2.0
PRODID:-//Bonington Gallery - ECPv6.15.20//NONSGML v1.0//EN
CALSCALE:GREGORIAN
METHOD:PUBLISH
X-WR-CALNAME:Bonington Gallery
X-ORIGINAL-URL:https://boningtongallery.co.uk
X-WR-CALDESC:Events for Bonington Gallery
REFRESH-INTERVAL;VALUE=DURATION:PT1H
X-Robots-Tag:noindex
X-PUBLISHED-TTL:PT1H
BEGIN:VTIMEZONE
TZID:UTC
BEGIN:STANDARD
TZOFFSETFROM:+0000
TZOFFSETTO:+0000
TZNAME:UTC
DTSTART:20240101T000000
END:STANDARD
END:VTIMEZONE
BEGIN:VEVENT
DTSTART;TZID=UTC:20251128T130000
DTEND;TZID=UTC:20251128T140000
DTSTAMP:20260424T050451
CREATED:20251110T120041Z
LAST-MODIFIED:20251110T143616Z
UID:12544-1764334800-1764338400@boningtongallery.co.uk
SUMMARY:Academic Walkthrough with Marco Bohr
DESCRIPTION:Join us for the first academic walkthrough of our exhibition programme as we welcome Marco Bohr\, Associate Professor in Design and Digital Art at Nottingham School of Art & Design. \n\n\n\nThis event marks the beginning of a series of short\, informal\, academic-led talks and tours of the Bonington Gallery exhibition programme. These sessions provide our academic colleagues with an opportunity to share insights\, spark discussion\, and share research that resonates with the themes of our exhibitions. \n\n\n\nMarco’s research is concerned with the role that images play in the shaping of a variety of discourses related to politics\, gender\, identity\, sexuality\, censorship\, ethics and disasters. Drawing on his background as an exhibiting photographer\, Marco’s research interest is principally focused on the photographic image — not only as a medium of visual expression but also as a research methodology and a tool for political activism. \n\n\n\nMarco’s research interest also extends to visual propaganda\, cinema\, documentary and essay film. His book “Visual Counterculture in Japan” was recently published by Bloomsbury. \n\n\n\nMarco Bohr
URL:https://boningtongallery.co.uk/event/academic-walkthrough-with-marco-bohr/
CATEGORIES:Exhibition
ATTACH;FMTTYPE=image/jpeg:https://boningtongallery.co.uk/wp-content/uploads/sites/2/2025/11/Bon-Gal-Marco-Bohr.jpg
END:VEVENT
END:VCALENDAR